BEGIN:VCALENDAR
VERSION:2.0
PRODID:-//Reumatikerföreningen Österlen - ECPv6.15.20//NONSGML v1.0//EN
CALSCALE:GREGORIAN
METHOD:PUBLISH
X-ORIGINAL-URL:https://reumatikerosterlen.se
X-WR-CALDESC:Händelser för Reumatikerföreningen Österlen
REFRESH-INTERVAL;VALUE=DURATION:PT1H
X-Robots-Tag:noindex
X-PUBLISHED-TTL:PT1H
BEGIN:VTIMEZONE
TZID:Europe/Stockholm
BEGIN:DAYLIGHT
TZOFFSETFROM:+0100
TZOFFSETTO:+0200
TZNAME:CEST
DTSTART:20250330T010000
END:DAYLIGHT
BEGIN:STANDARD
TZOFFSETFROM:+0200
TZOFFSETTO:+0100
TZNAME:CET
DTSTART:20251026T010000
END:STANDARD
BEGIN:DAYLIGHT
TZOFFSETFROM:+0100
TZOFFSETTO:+0200
TZNAME:CEST
DTSTART:20260329T010000
END:DAYLIGHT
BEGIN:STANDARD
TZOFFSETFROM:+0200
TZOFFSETTO:+0100
TZNAME:CET
DTSTART:20261025T010000
END:STANDARD
BEGIN:DAYLIGHT
TZOFFSETFROM:+0100
TZOFFSETTO:+0200
TZNAME:CEST
DTSTART:20270328T010000
END:DAYLIGHT
BEGIN:STANDARD
TZOFFSETFROM:+0200
TZOFFSETTO:+0100
TZNAME:CET
DTSTART:20271031T010000
END:STANDARD
END:VTIMEZONE
BEGIN:VEVENT
DTSTART;TZID=Europe/Stockholm:20260809T130000
DTEND;TZID=Europe/Stockholm:20260809T163000
DTSTAMP:20260420T012847
CREATED:20260411T194221Z
LAST-MODIFIED:20260411T194221Z
UID:5549-1786280400-1786293000@reumatikerosterlen.se
SUMMARY:Korvgrillning
DESCRIPTION:Klockan 13.00  startar vi upp grillen.
URL:https://reumatikerosterlen.se/event/korvgrillning/
LOCATION:Gärsnäs Allaktivitetshus\, Skolvägen 23\, Gärsnäs\, 272 61
ATTACH;FMTTYPE=image/jpeg:https://reumatikerosterlen.se/wp-content/uploads/2025/04/korv.jpg
ORGANIZER;CN="Reumatikerf%C3%B6reningen %C3%96sterlen":MAILTO:gul0906@yahoo.se
END:VEVENT
END:VCALENDAR